BEGIN:VCALENDAR
VERSION:2.0
PRODID:-//AudioTheme 3.0.2
BEGIN:VEVENT
UID:https://www.diesterne.de/?post_type=audiotheme_gig&#038;p=3528
URL:https://www.diesterne.de/termine/waldbuehne-berlin/
DTSTART;TZID=GMT:20210821T000000
SUMMARY:Waldbühne Berlin
DESCRIPTION:Der große RADIOEINS Abend
LOCATION:Waldbühne Berlin\, Waldbühne Berlin  im Olympiapark  Glockenturmstraße 1  14053 Berlin\, Berlin\, 
END:VEVENT
END:VCALENDAR
